BEGIN:VCALENDAR
VERSION:2.0
PRODID:-//Tukios.com/
BEGIN:VEVENT
UID:51d23889-7bd1-4d48-a9a6-9898de59739d@www.hudsonfuneralhome.com
DTSTAMP:20260421T082317Z
DTSTART:20260220T180000Z
DTEND:20260220T190000Z
SUMMARY:Visitation
DESCRIPTION:
URL:https://www.hudsonfuneralhome.com/obituaries/jeffrey-tucker
LOCATION:Longview Baptist Church 2308 North New Hope Road  Raleigh NC 
	27604
GEO:35.8132088;-78.5652279
END:VEVENT
END:VCALENDAR