BEGIN:VCALENDAR
VERSION:2.0
PRODID:-//Tukios.com/
BEGIN:VEVENT
UID:05162933-4de8-4c29-8085-8c53356374f5@www.hudsonfuneralhome.com
DTSTAMP:20260421T081341Z
DTSTART:20260220T190000Z
DTEND:20260220T200000Z
SUMMARY:Funeral Service
DESCRIPTION:
URL:https://www.hudsonfuneralhome.com/obituaries/jeffrey-tucker
LOCATION:Longview Baptist Church 2308 North New Hope Road  Raleigh NC 
	27604
GEO:35.8132088;-78.5652279
END:VEVENT
END:VCALENDAR