BEGIN:VCALENDAR
VERSION:2.0
PRODID:-//Tukios.com/
BEGIN:VEVENT
UID:62e75067-ef81-4b8a-bf26-567f761e447c@www.hudsonfuneralhome.com
DTSTAMP:20260421T082041Z
DTSTART:20260222T190000Z
DTEND:20260222T200000Z
SUMMARY:Memorial Service
DESCRIPTION:
URL:https://www.hudsonfuneralhome.com/obituaries/betsy-wills
LOCATION:Hudson Funeral Home 211 S Miami Blvd  Durham NC 27703
GEO:35.9852376;-78.8615557
END:VEVENT
END:VCALENDAR